Package: SANTA Version: 2.43.0 Command: E:\biocbuild\bbs-3.21-bioc\R\bin\R.exe CMD INSTALL SANTA StartedAt: 2025-02-09 15:21:05 -0500 (Sun, 09 Feb 2025) EndedAt: 2025-02-09 15:21:22 -0500 (Sun, 09 Feb 2025) EllapsedTime: 16.7 seconds RetCode: 0 Status: OK