Package: SC3 Version: 1.35.0 Command: /Library/Frameworks/R.framework/Resources/bin/R CMD build --keep-empty-dirs --no-resave-data SC3 StartedAt: 2025-02-09 17:29:16 -0500 (Sun, 09 Feb 2025) EndedAt: 2025-02-09 17:31:52 -0500 (Sun, 09 Feb 2025) EllapsedTime: 156.8 seconds RetCode: 0 Status: OK PackageFile: SC3_1.35.0.tar.gz PackageFileSize: 3.38 MiB