Package: SC3 Version: 1.35.0 Command: rm -rf SC3.buildbin-libdir && mkdir SC3.buildbin-libdir && /Users/biocbuild/BBS/utils/build-universal.sh SC3_1.35.0.tar.gz /Library/Frameworks/R.framework/Resources/bin/R SC3.buildbin-libdir StartedAt: 2025-02-10 01:14:11 -0500 (Mon, 10 Feb 2025) EndedAt: 2025-02-10 01:15:11 -0500 (Mon, 10 Feb 2025) EllapsedTime: 59.9 seconds RetCode: 0 Status: OK PackageFile: SC3_1.35.0.tgz PackageFileSize: 4.615 MiB