Package: SC3 Version: 1.35.0 Command: /Library/Frameworks/R.framework/Resources/bin/R CMD check --install=check:SC3.install-out.txt --library=/Library/Frameworks/R.framework/Resources/library --no-vignettes --timings SC3_1.35.0.tar.gz StartedAt: 2025-02-09 23:20:37 -0500 (Sun, 09 Feb 2025) EndedAt: 2025-02-09 23:23:57 -0500 (Sun, 09 Feb 2025) EllapsedTime: 199.7 seconds RetCode: 0 Status: OK CheckDir: SC3.Rcheck Warnings: 0