Package: SC3 Version: 1.35.0 Command: /home/biocbuild/bbs-3.21-bioc/R/bin/R CMD build --keep-empty-dirs --no-resave-data SC3 StartedAt: 2025-02-09 19:04:01 -0500 (Sun, 09 Feb 2025) EndedAt: 2025-02-09 19:11:02 -0500 (Sun, 09 Feb 2025) EllapsedTime: 420.6 seconds RetCode: 0 Status: OK PackageFile: SC3_1.35.0.tar.gz PackageFileSize: 3.354 MiB