Package: SC3 Version: 1.35.0 Command: /home/biocbuild/bbs-3.21-bioc/R/bin/R CMD INSTALL SC3 StartedAt: 2025-02-09 15:18:43 -0500 (Sun, 09 Feb 2025) EndedAt: 2025-02-09 15:19:24 -0500 (Sun, 09 Feb 2025) EllapsedTime: 40.8 seconds RetCode: 0 Status: OK