Package: SC3 Version: 1.35.0 Command: chmod a+r SC3 -R && E:\biocbuild\bbs-3.21-bioc\R\bin\R.exe CMD build --keep-empty-dirs --no-resave-data SC3 StartedAt: 2025-02-09 21:22:44 -0500 (Sun, 09 Feb 2025) EndedAt: 2025-02-09 21:32:34 -0500 (Sun, 09 Feb 2025) EllapsedTime: 590.3 seconds RetCode: 0 Status: OK PackageFile: SC3_1.35.0.tar.gz PackageFileSize: 2.183 MiB