Package: SC3 Version: 1.35.0 Command: E:\biocbuild\bbs-3.21-bioc\R\bin\R.exe CMD check --no-multiarch --install=check:SC3.install-out.txt --library=E:\biocbuild\bbs-3.21-bioc\R\library --no-vignettes --timings SC3_1.35.0.tar.gz StartedAt: 2025-02-10 05:01:31 -0500 (Mon, 10 Feb 2025) EndedAt: 2025-02-10 05:04:59 -0500 (Mon, 10 Feb 2025) EllapsedTime: 208.5 seconds RetCode: 0 Status: OK CheckDir: SC3.Rcheck Warnings: 0