Package: SC3 Version: 1.35.0 Command: E:\biocbuild\bbs-3.21-bioc\R\bin\R.exe CMD INSTALL SC3 StartedAt: 2025-02-09 16:18:13 -0500 (Sun, 09 Feb 2025) EndedAt: 2025-02-09 16:19:14 -0500 (Sun, 09 Feb 2025) EllapsedTime: 60.9 seconds RetCode: 0 Status: OK