############################################################################## ############################################################################## ### ### Running command: ### ### /Library/Frameworks/R.framework/Resources/bin/R CMD build --keep-empty-dirs --no-resave-data SCAN.UPC ### ############################################################################## ############################################################################## * checking for file ‘SCAN.UPC/DESCRIPTION’ ... OK * preparing ‘SCAN.UPC’: * checking DESCRIPTION meta-information ... OK * installing the package to build vignettes ----------------------------------- ERROR: dependency ‘oligo’ is not available for package ‘SCAN.UPC’ Perhaps try a variation of: install.packages('oligo') * removing ‘/private/var/folders/r0/l4fjk6cj5xj0j3brt4bplpl40000gt/T/Rtmpggbj8u/Rinsta578768b25ed/SCAN.UPC’ ----------------------------------- ERROR: package installation failed