Package: SCAN.UPC Version: 2.49.0 Command: /Library/Frameworks/R.framework/Resources/bin/R CMD INSTALL SCAN.UPC StartedAt: 2025-02-03 15:55:33 -0500 (Mon, 03 Feb 2025) EndedAt: 2025-02-03 15:55:34 -0500 (Mon, 03 Feb 2025) EllapsedTime: 1.1 seconds RetCode: 1 Status: ERROR