Package: SCAN.UPC Version: 2.49.0 Command: /Library/Frameworks/R.framework/Resources/bin/R CMD build --keep-empty-dirs --no-resave-data SCAN.UPC StartedAt: 2025-02-03 18:13:51 -0500 (Mon, 03 Feb 2025) EndedAt: 2025-02-03 18:13:52 -0500 (Mon, 03 Feb 2025) EllapsedTime: 1.2 seconds RetCode: 1 Status: ERROR PackageFile: None PackageFileSize: NA