Package: SCAN.UPC Version: 2.49.0 Command: /home/biocbuild/bbs-3.21-bioc/R/bin/R CMD INSTALL SCAN.UPC StartedAt: 2025-02-09 15:32:55 -0500 (Sun, 09 Feb 2025) EndedAt: 2025-02-09 15:32:55 -0500 (Sun, 09 Feb 2025) EllapsedTime: 0.3 seconds RetCode: 1 Status: ERROR