Package: SCAN.UPC Version: 2.49.0 Command: rm -rf SCAN.UPC.buildbin-libdir && mkdir SCAN.UPC.buildbin-libdir && E:\biocbuild\bbs-3.21-bioc\R\bin\R.exe CMD INSTALL --build --library=SCAN.UPC.buildbin-libdir SCAN.UPC_2.49.0.tar.gz StartedAt: 2025-02-04 08:50:45 -0500 (Tue, 04 Feb 2025) EndedAt: 2025-02-04 08:51:29 -0500 (Tue, 04 Feb 2025) EllapsedTime: 44.5 seconds RetCode: 0 Status: OK PackageFile: SCAN.UPC_2.49.0.zip PackageFileSize: 425.5 KiB