Package: SCANVIS Version: 1.21.0 Maintainer: Phaedra Agius MaintainerEmail: pagius at nygenome.org git_url: https://git.bioconductor.org/packages/SCANVIS git_branch: devel git_last_commit: 2740017 git_last_commit_date: 2024-10-29 10:38:38 -0500 (Tue, 29 Oct 2024)