Package: SCANVIS Version: 1.21.0 Command: /Library/Frameworks/R.framework/Resources/bin/R CMD check --install=check:SCANVIS.install-out.txt --library=/Library/Frameworks/R.framework/Resources/library --no-vignettes --timings SCANVIS_1.21.0.tar.gz StartedAt: 2025-02-03 23:04:19 -0500 (Mon, 03 Feb 2025) EndedAt: 2025-02-03 23:07:58 -0500 (Mon, 03 Feb 2025) EllapsedTime: 218.7 seconds RetCode: 0 Status: OK CheckDir: SCANVIS.Rcheck Warnings: 0