Package: SCANVIS Version: 1.21.0 Command: /Library/Frameworks/R.framework/Resources/bin/R CMD INSTALL SCANVIS StartedAt: 2025-02-03 15:22:15 -0500 (Mon, 03 Feb 2025) EndedAt: 2025-02-03 15:22:55 -0500 (Mon, 03 Feb 2025) EllapsedTime: 39.8 seconds RetCode: 0 Status: OK