Package: SCANVIS Version: 1.21.0 Command: /home/biocbuild/bbs-3.21-bioc/R/bin/R CMD build --keep-empty-dirs --no-resave-data SCANVIS StartedAt: 2025-02-09 19:04:14 -0500 (Sun, 09 Feb 2025) EndedAt: 2025-02-09 19:04:59 -0500 (Sun, 09 Feb 2025) EllapsedTime: 45.0 seconds RetCode: 0 Status: OK PackageFile: SCANVIS_1.21.0.tar.gz PackageFileSize: 470.2 KiB