Package: SCANVIS Version: 1.21.0 Command: /home/biocbuild/bbs-3.21-bioc/R/bin/R CMD check --install=check:SCANVIS.install-out.txt --library=/home/biocbuild/bbs-3.21-bioc/R/site-library --timings SCANVIS_1.21.0.tar.gz StartedAt: 2025-02-10 02:14:27 -0500 (Mon, 10 Feb 2025) EndedAt: 2025-02-10 02:18:26 -0500 (Mon, 10 Feb 2025) EllapsedTime: 239.3 seconds RetCode: 0 Status: OK CheckDir: SCANVIS.Rcheck Warnings: 0