Package: SCANVIS Version: 1.21.0 Command: rm -rf SCANVIS.buildbin-libdir && mkdir SCANVIS.buildbin-libdir && E:\biocbuild\bbs-3.21-bioc\R\bin\R.exe CMD INSTALL --build --library=SCANVIS.buildbin-libdir SCANVIS_1.21.0.tar.gz StartedAt: 2025-02-10 08:37:41 -0500 (Mon, 10 Feb 2025) EndedAt: 2025-02-10 08:38:19 -0500 (Mon, 10 Feb 2025) EllapsedTime: 38.0 seconds RetCode: 0 Status: OK PackageFile: SCANVIS_1.21.0.zip PackageFileSize: 431.7 KiB