Package: SCANVIS Version: 1.21.0 Command: chmod a+r SCANVIS -R && E:\biocbuild\bbs-3.21-bioc\R\bin\R.exe CMD build --keep-empty-dirs --no-resave-data SCANVIS StartedAt: 2025-02-09 21:23:25 -0500 (Sun, 09 Feb 2025) EndedAt: 2025-02-09 21:24:26 -0500 (Sun, 09 Feb 2025) EllapsedTime: 61.5 seconds RetCode: 0 Status: OK PackageFile: SCANVIS_1.21.0.tar.gz PackageFileSize: 471.1 KiB