Package: SCANVIS Version: 1.21.0 Command: E:\biocbuild\bbs-3.21-bioc\R\bin\R.exe CMD INSTALL SCANVIS StartedAt: 2025-02-09 16:20:16 -0500 (Sun, 09 Feb 2025) EndedAt: 2025-02-09 16:20:55 -0500 (Sun, 09 Feb 2025) EllapsedTime: 38.6 seconds RetCode: 0 Status: OK