Package: SCArray.sat Version: 1.7.0 Command: /Library/Frameworks/R.framework/Resources/bin/R CMD build --keep-empty-dirs --no-resave-data SCArray.sat StartedAt: 2025-02-09 17:29:48 -0500 (Sun, 09 Feb 2025) EndedAt: 2025-02-09 17:30:16 -0500 (Sun, 09 Feb 2025) EllapsedTime: 28.4 seconds RetCode: 1 Status: ERROR PackageFile: None PackageFileSize: NA