Package: SCArray.sat Version: 1.7.0 Command: /Library/Frameworks/R.framework/Resources/bin/R CMD INSTALL SCArray.sat StartedAt: 2025-02-12 15:24:55 -0500 (Wed, 12 Feb 2025) EndedAt: 2025-02-12 15:25:11 -0500 (Wed, 12 Feb 2025) EllapsedTime: 16.7 seconds RetCode: 0 Status: OK