Package: SCArray.sat Version: 1.7.0 Command: /home/biocbuild/R/R/bin/R CMD build --keep-empty-dirs --no-resave-data SCArray.sat StartedAt: 2025-01-29 01:59:46 -0000 (Wed, 29 Jan 2025) EndedAt: 2025-01-29 02:01:30 -0000 (Wed, 29 Jan 2025) EllapsedTime: 104.1 seconds RetCode: 0 Status: OK PackageFile: SCArray.sat_1.7.0.tar.gz PackageFileSize: 542.9 KiB