Package: SCArray.sat Version: 1.7.0 Command: /home/biocbuild/R/R/bin/R CMD INSTALL SCArray.sat StartedAt: 2025-01-29 20:28:28 -0000 (Wed, 29 Jan 2025) EndedAt: 2025-01-29 20:29:26 -0000 (Wed, 29 Jan 2025) EllapsedTime: 57.2 seconds RetCode: 0 Status: OK