Package: SCArray.sat Version: 1.7.0 Command: /Library/Frameworks/R.framework/Resources/bin/R CMD INSTALL SCArray.sat StartedAt: 2025-02-09 15:40:34 -0500 (Sun, 09 Feb 2025) EndedAt: 2025-02-09 15:41:30 -0500 (Sun, 09 Feb 2025) EllapsedTime: 56.5 seconds RetCode: 0 Status: OK