Package: SCArray.sat Version: 1.7.0 Command: rm -rf SCArray.sat.buildbin-libdir && mkdir SCArray.sat.buildbin-libdir && E:\biocbuild\bbs-3.21-bioc\R\bin\R.exe CMD INSTALL --build --library=SCArray.sat.buildbin-libdir SCArray.sat_1.7.0.tar.gz StartedAt: 2025-02-03 08:11:07 -0500 (Mon, 03 Feb 2025) EndedAt: 2025-02-03 08:12:18 -0500 (Mon, 03 Feb 2025) EllapsedTime: 71.8 seconds RetCode: 0 Status: OK PackageFile: SCArray.sat_1.7.0.zip PackageFileSize: 525.6 KiB