Package: SCArray.sat Version: 1.7.0 Command: E:\biocbuild\bbs-3.21-bioc\R\bin\R.exe CMD INSTALL SCArray.sat StartedAt: 2025-02-09 16:29:44 -0500 (Sun, 09 Feb 2025) EndedAt: 2025-02-09 16:30:42 -0500 (Sun, 09 Feb 2025) EllapsedTime: 57.4 seconds RetCode: 0 Status: OK