Package: SCArray Version: 1.15.1 Command: /Library/Frameworks/R.framework/Resources/bin/R CMD build --keep-empty-dirs --no-resave-data SCArray StartedAt: 2025-02-09 17:29:43 -0500 (Sun, 09 Feb 2025) EndedAt: 2025-02-09 17:30:12 -0500 (Sun, 09 Feb 2025) EllapsedTime: 29.4 seconds RetCode: 1 Status: ERROR PackageFile: None PackageFileSize: NA