Package: SCFA Version: 1.17.0 Command: /Library/Frameworks/R.framework/Resources/bin/R CMD build --keep-empty-dirs --no-resave-data SCFA StartedAt: 2025-02-04 18:11:31 -0500 (Tue, 04 Feb 2025) EndedAt: 2025-02-04 18:14:20 -0500 (Tue, 04 Feb 2025) EllapsedTime: 169.4 seconds RetCode: 0 Status: OK PackageFile: SCFA_1.17.0.tar.gz PackageFileSize: 1.24 MiB