Package: SCFA Version: 1.17.0 Command: rm -rf SCFA.buildbin-libdir && mkdir SCFA.buildbin-libdir && E:\biocbuild\bbs-3.21-bioc\R\bin\R.exe CMD INSTALL --build --library=SCFA.buildbin-libdir SCFA_1.17.0.tar.gz StartedAt: 2025-02-10 08:38:57 -0500 (Mon, 10 Feb 2025) EndedAt: 2025-02-10 08:39:18 -0500 (Mon, 10 Feb 2025) EllapsedTime: 20.5 seconds RetCode: 0 Status: OK PackageFile: SCFA_1.17.0.zip PackageFileSize: 1.403 MiB