Package: SCFA Version: 1.17.0 Command: chmod a+r SCFA -R && E:\biocbuild\bbs-3.21-bioc\R\bin\R.exe CMD build --keep-empty-dirs --no-resave-data SCFA StartedAt: 2025-02-04 21:27:56 -0500 (Tue, 04 Feb 2025) EndedAt: 2025-02-04 21:31:17 -0500 (Tue, 04 Feb 2025) EllapsedTime: 200.8 seconds RetCode: 0 Status: OK PackageFile: SCFA_1.17.0.tar.gz PackageFileSize: 1.241 MiB