Package: SCFA Version: 1.17.0 Command: E:\biocbuild\bbs-3.21-bioc\R\bin\R.exe CMD check --no-multiarch --install=check:SCFA.install-out.txt --library=E:\biocbuild\bbs-3.21-bioc\R\library --no-vignettes --timings SCFA_1.17.0.tar.gz StartedAt: 2025-02-05 05:31:12 -0500 (Wed, 05 Feb 2025) EndedAt: 2025-02-05 05:36:26 -0500 (Wed, 05 Feb 2025) EllapsedTime: 313.9 seconds RetCode: 0 Status: OK CheckDir: SCFA.Rcheck Warnings: 0