Package: SCFA Version: 1.17.0 Command: E:\biocbuild\bbs-3.21-bioc\R\bin\R.exe CMD INSTALL SCFA StartedAt: 2025-02-04 16:26:56 -0500 (Tue, 04 Feb 2025) EndedAt: 2025-02-04 16:27:16 -0500 (Tue, 04 Feb 2025) EllapsedTime: 19.7 seconds RetCode: 0 Status: OK