Package: SCOPE Version: 1.19.0 Command: /Library/Frameworks/R.framework/Resources/bin/R CMD build --keep-empty-dirs --no-resave-data SCOPE StartedAt: 2025-02-09 17:32:37 -0500 (Sun, 09 Feb 2025) EndedAt: 2025-02-09 17:35:56 -0500 (Sun, 09 Feb 2025) EllapsedTime: 199.2 seconds RetCode: 0 Status: OK PackageFile: SCOPE_1.19.0.tar.gz PackageFileSize: 391.8 KiB