Package: SCOPE Version: 1.19.0 Command: /Library/Frameworks/R.framework/Resources/bin/R CMD INSTALL SCOPE StartedAt: 2025-02-12 15:11:27 -0500 (Wed, 12 Feb 2025) EndedAt: 2025-02-12 15:11:42 -0500 (Wed, 12 Feb 2025) EllapsedTime: 15.1 seconds RetCode: 0 Status: OK