Package: SCOPE Version: 1.19.0 Command: /home/biocbuild/R/R/bin/R CMD INSTALL SCOPE StartedAt: 2025-01-29 19:55:01 -0000 (Wed, 29 Jan 2025) EndedAt: 2025-01-29 19:55:51 -0000 (Wed, 29 Jan 2025) EllapsedTime: 50.0 seconds RetCode: 0 Status: OK