Package: SCOPE Version: 1.19.0 Command: /Library/Frameworks/R.framework/Resources/bin/R CMD build --keep-empty-dirs --no-resave-data SCOPE StartedAt: 2025-02-12 18:14:07 -0500 (Wed, 12 Feb 2025) EndedAt: 2025-02-12 18:24:16 -0500 (Wed, 12 Feb 2025) EllapsedTime: 608.9 seconds RetCode: 0 Status: OK PackageFile: SCOPE_1.19.0.tar.gz PackageFileSize: 391.5 KiB