Package: SCOPE Version: 1.19.0 Command: /Library/Frameworks/R.framework/Resources/bin/R CMD INSTALL SCOPE StartedAt: 2025-02-09 15:19:36 -0500 (Sun, 09 Feb 2025) EndedAt: 2025-02-09 15:20:25 -0500 (Sun, 09 Feb 2025) EllapsedTime: 48.3 seconds RetCode: 0 Status: OK