Package: SCOPE Version: 1.19.0 Command: /home/biocbuild/bbs-3.21-bioc/R/bin/R CMD build --keep-empty-dirs --no-resave-data SCOPE StartedAt: 2025-02-09 19:09:34 -0500 (Sun, 09 Feb 2025) EndedAt: 2025-02-09 19:18:01 -0500 (Sun, 09 Feb 2025) EllapsedTime: 507.6 seconds RetCode: 0 Status: OK PackageFile: SCOPE_1.19.0.tar.gz PackageFileSize: 391.6 KiB