Package: SCOPE Version: 1.19.0 Command: /home/biocbuild/bbs-3.21-bioc/R/bin/R CMD check --install=check:SCOPE.install-out.txt --library=/home/biocbuild/bbs-3.21-bioc/R/site-library --timings SCOPE_1.19.0.tar.gz StartedAt: 2025-02-10 02:24:07 -0500 (Mon, 10 Feb 2025) EndedAt: 2025-02-10 02:37:49 -0500 (Mon, 10 Feb 2025) EllapsedTime: 822.0 seconds RetCode: 0 Status: OK CheckDir: SCOPE.Rcheck Warnings: 0