Package: SCOPE Version: 1.19.0 Command: /home/biocbuild/bbs-3.21-bioc/R/bin/R CMD INSTALL SCOPE StartedAt: 2025-02-09 15:33:43 -0500 (Sun, 09 Feb 2025) EndedAt: 2025-02-09 15:34:20 -0500 (Sun, 09 Feb 2025) EllapsedTime: 36.6 seconds RetCode: 0 Status: OK