Package: SCOPE Version: 1.19.0 Command: rm -rf SCOPE.buildbin-libdir && mkdir SCOPE.buildbin-libdir && E:\biocbuild\bbs-3.21-bioc\R\bin\R.exe CMD INSTALL --build --library=SCOPE.buildbin-libdir SCOPE_1.19.0.tar.gz StartedAt: 2025-02-10 08:39:42 -0500 (Mon, 10 Feb 2025) EndedAt: 2025-02-10 08:40:38 -0500 (Mon, 10 Feb 2025) EllapsedTime: 55.6 seconds RetCode: 0 Status: OK PackageFile: SCOPE_1.19.0.zip PackageFileSize: 582.7 KiB