Package: SCOPE Version: 1.19.0 Command: E:\biocbuild\bbs-3.21-bioc\R\bin\R.exe CMD check --no-multiarch --install=check:SCOPE.install-out.txt --library=E:\biocbuild\bbs-3.21-bioc\R\library --no-vignettes --timings SCOPE_1.19.0.tar.gz StartedAt: 2025-02-13 05:20:24 -0500 (Thu, 13 Feb 2025) EndedAt: 2025-02-13 05:27:33 -0500 (Thu, 13 Feb 2025) EllapsedTime: 428.8 seconds RetCode: 0 Status: OK CheckDir: SCOPE.Rcheck Warnings: 0