Package: SCOPE Version: 1.19.0 Command: E:\biocbuild\bbs-3.21-bioc\R\bin\R.exe CMD INSTALL SCOPE StartedAt: 2025-02-09 16:36:13 -0500 (Sun, 09 Feb 2025) EndedAt: 2025-02-09 16:37:01 -0500 (Sun, 09 Feb 2025) EllapsedTime: 47.5 seconds RetCode: 0 Status: OK