Package: SDAMS Version: 1.27.0 Command: /Library/Frameworks/R.framework/Resources/bin/R CMD build --keep-empty-dirs --no-resave-data SDAMS StartedAt: 2025-02-09 17:35:00 -0500 (Sun, 09 Feb 2025) EndedAt: 2025-02-09 17:35:24 -0500 (Sun, 09 Feb 2025) EllapsedTime: 23.3 seconds RetCode: 0 Status: OK PackageFile: SDAMS_1.27.0.tar.gz PackageFileSize: 1.28 MiB