Package: SDAMS Version: 1.27.0 Command: rm -rf SDAMS.buildbin-libdir && mkdir SDAMS.buildbin-libdir && /Users/biocbuild/BBS/utils/build-universal.sh SDAMS_1.27.0.tar.gz /Library/Frameworks/R.framework/Resources/bin/R SDAMS.buildbin-libdir StartedAt: 2025-02-10 01:15:45 -0500 (Mon, 10 Feb 2025) EndedAt: 2025-02-10 01:16:26 -0500 (Mon, 10 Feb 2025) EllapsedTime: 41.5 seconds RetCode: 0 Status: OK PackageFile: SDAMS_1.27.0.tgz PackageFileSize: 1.104 MiB