Package: SDAMS Version: 1.27.0 Command: /Library/Frameworks/R.framework/Resources/bin/R CMD INSTALL SDAMS StartedAt: 2025-02-12 15:10:57 -0500 (Wed, 12 Feb 2025) EndedAt: 2025-02-12 15:11:35 -0500 (Wed, 12 Feb 2025) EllapsedTime: 38.1 seconds RetCode: 0 Status: OK