Package: SDAMS Version: 1.27.0 Command: /home/biocbuild/bbs-3.21-bioc/R/bin/R CMD build --keep-empty-dirs --no-resave-data SDAMS StartedAt: 2025-02-09 19:13:29 -0500 (Sun, 09 Feb 2025) EndedAt: 2025-02-09 19:14:19 -0500 (Sun, 09 Feb 2025) EllapsedTime: 50.1 seconds RetCode: 0 Status: OK PackageFile: SDAMS_1.27.0.tar.gz PackageFileSize: 1.282 MiB